BEGIN:VCALENDAR
VERSION:2.0
PRODID:-//Eventin//Event Calendar//EN
CALSCALE:GREGORIAN
METHOD:PUBLISH
BEGIN:VEVENT
UID:f4cc03ee044d47c752aaab52f74f7e94@www.feuerwehr-bergheim.at
SUMMARY:Jugendstunde
DESCRIPTION:Jugendgruppe B
LOCATION:Feuerwehrhaus Bergheim\, Dorfstraße 26
DTSTAMP:20260420T124344Z
DTSTART:20260424T160000Z
DTEND:20260424T170000Z
END:VEVENT
END:VCALENDAR
