BEGIN:VCALENDAR
VERSION:2.0
PRODID:-//Eventin//Event Calendar//EN
CALSCALE:GREGORIAN
METHOD:PUBLISH
BEGIN:VEVENT
UID:c229f28f2e0674392a84a01bd6dcd218@www.feuerwehr-bergheim.at
SUMMARY:Erntedankfest
DESCRIPTION:
LOCATION:Pfarrkirche Bergheim
DTSTAMP:20260420T142335Z
DTSTART:20260913T060000Z
DTEND:20260913T110000Z
END:VEVENT
END:VCALENDAR
