BEGIN:VCALENDAR
VERSION:2.0
PRODID:-//Eventin//Event Calendar//EN
CALSCALE:GREGORIAN
METHOD:PUBLISH
BEGIN:VEVENT
UID:239638f320be8e4860e426fed7695533@www.feuerwehr-bergheim.at
SUMMARY:Maria Himmelfahrt
DESCRIPTION:
LOCATION:Pfarrkirche Bergheim
DTSTAMP:20260420T161759Z
DTSTART:20260815T060000Z
DTEND:20260815T110000Z
END:VEVENT
END:VCALENDAR
