BEGIN:VCALENDAR
VERSION:2.0
PRODID:-//Eventin//Event Calendar//EN
CALSCALE:GREGORIAN
METHOD:PUBLISH
BEGIN:VEVENT
UID:932fd4f41175045c481e6265ec9c862b@www.feuerwehr-bergheim.at
SUMMARY:125 Jahre FF-Köstendorf
DESCRIPTION:Jubiläumsfest der Freiwilligen Feuerwehr Köstendorf.
LOCATION:Feuerwehrhaus Köstendorf
DTSTAMP:20260420T162827Z
DTSTART:20260620T050000Z
DTEND:20260621T160000Z
END:VEVENT
END:VCALENDAR
