BEGIN:VCALENDAR
VERSION:2.0
PRODID:-//Eventin//Event Calendar//EN
CALSCALE:GREGORIAN
METHOD:PUBLISH
BEGIN:VEVENT
UID:4fe3d78acb85722bc2a1e9798bd93a4b@www.feuerwehr-bergheim.at
SUMMARY:125 Jahre FF-Koppl
DESCRIPTION:Jubiläumsfest der Freiwilligen Feuerwehr Koppl.
LOCATION:Feuerwehrhaus Koppl
DTSTAMP:20260420T162134Z
DTSTART:20260530T050000Z
DTEND:20260531T160000Z
END:VEVENT
END:VCALENDAR
