BEGIN:VCALENDAR
VERSION:2.0
PRODID:-//Eventin//Event Calendar//EN
CALSCALE:GREGORIAN
METHOD:PUBLISH
BEGIN:VEVENT
UID:059a65e4aad0b3d0b956edd52614222b@www.feuerwehr-bergheim.at
SUMMARY:Florianifeier
DESCRIPTION:
LOCATION:Wahlfahrtskirche Maria Plain
DTSTAMP:20260420T123617Z
DTSTART:20260425T170000Z
DTEND:20260425T190000Z
END:VEVENT
END:VCALENDAR
