BEGIN:VCALENDAR
VERSION:2.0
PRODID:-//Eventin//Event Calendar//EN
CALSCALE:GREGORIAN
METHOD:PUBLISH
BEGIN:VEVENT
UID:81c2a0529d859e3b852c2716e9a3f197@www.feuerwehr-bergheim.at
SUMMARY:Dienstbetrieb
DESCRIPTION:
LOCATION:Feuerwehrhaus Bergheim\, Dorfstraße 26
DTSTAMP:20260420T124200Z
DTSTART:20260424T170000Z
DTEND:20260424T190000Z
END:VEVENT
END:VCALENDAR
